BEGIN:VCALENDAR
VERSION:2.0
PRODID:-//Ansgar Lodge 5304 - ECPv6.0.8//NONSGML v1.0//EN
CALSCALE:GREGORIAN
METHOD:PUBLISH
X-ORIGINAL-URL:https://ansgarlodge.org
X-WR-CALDESC:Events for Ansgar Lodge 5304
REFRESH-INTERVAL;VALUE=DURATION:PT1H
X-Robots-Tag:noindex
X-PUBLISHED-TTL:PT1H
BEGIN:VTIMEZONE
TZID:UTC
BEGIN:STANDARD
TZOFFSETFROM:+0000
TZOFFSETTO:+0000
TZNAME:UTC
DTSTART:20190101T000000
END:STANDARD
END:VTIMEZONE
BEGIN:VEVENT
DTSTART;TZID=UTC:20190402T080000
DTEND;TZID=UTC:20190402T170000
DTSTAMP:20260423T120358
CREATED:20180409T191931Z
LAST-MODIFIED:20180409T191931Z
UID:555-1554192000-1554224400@ansgarlodge.org
SUMMARY:Ansgar Regular Lodge Meeting
DESCRIPTION:
URL:https://ansgarlodge.org/event/ansgar-regular-lodge-meeting-6/
LOCATION:Uxbridge Masonic Centre\, Western House\, 4a Hercies Road\,\, Hillingdon\, Middlesex\, UB10 9NA\, United Kingdom
CATEGORIES:Ansgar Regular Lodge Meeting
END:VEVENT
END:VCALENDAR