BEGIN:VCALENDAR
VERSION:2.0
PRODID:-//Ansgar Lodge 5304 - ECPv6.0.8//NONSGML v1.0//EN
CALSCALE:GREGORIAN
METHOD:PUBLISH
X-WR-CALNAME:Ansgar Lodge 5304
X-ORIGINAL-URL:https://ansgarlodge.org
X-WR-CALDESC:Events for Ansgar Lodge 5304
REFRESH-INTERVAL;VALUE=DURATION:PT1H
X-Robots-Tag:noindex
X-PUBLISHED-TTL:PT1H
BEGIN:VTIMEZONE
TZID:UTC
BEGIN:STANDARD
TZOFFSETFROM:+0000
TZOFFSETTO:+0000
TZNAME:UTC
DTSTART:20150101T000000
END:STANDARD
END:VTIMEZONE
BEGIN:VEVENT
DTSTART;TZID=UTC:20150120T193000
DTEND;TZID=UTC:20150120T213000
DTSTAMP:20260420T002858
CREATED:20140106T185412Z
LAST-MODIFIED:20141217T220102Z
UID:9-1421782200-1421789400@ansgarlodge.org
SUMMARY:Lodge of Instruction
DESCRIPTION:LOI room 2 \n  \nClick here for more details.
URL:https://ansgarlodge.org/event/loi-3/
LOCATION:Uxbridge Masonic Centre\, 4a Hercies Road\, Hillingdon\, Uxbridge\, UB10 9NA\, United Kingdom
CATEGORIES:Lodge of Instruction
END:VEVENT
BEGIN:VEVENT
DTSTART;TZID=UTC:20150113T193000
DTEND;TZID=UTC:20150113T213000
DTSTAMP:20260420T002858
CREATED:20141217T185325Z
LAST-MODIFIED:20141217T220136Z
UID:8-1421177400-1421184600@ansgarlodge.org
SUMMARY:Lodge of Instruction
DESCRIPTION:LOI room 2 \n  \nClick here for more details.
URL:https://ansgarlodge.org/event/loi-2/
LOCATION:Uxbridge Masonic Centre\, 4a Hercies Road\, Hillingdon\, Uxbridge\, UB10 9NA\, United Kingdom
CATEGORIES:Lodge of Instruction
END:VEVENT
BEGIN:VEVENT
DTSTART;TZID=UTC:20150106T193000
DTEND;TZID=UTC:20150106T213000
DTSTAMP:20260420T002858
CREATED:20141217T183926Z
LAST-MODIFIED:20141217T220157Z
UID:5-1420572600-1420579800@ansgarlodge.org
SUMMARY:Lodge of Instruction
DESCRIPTION:LOI room 1 \n  \nClick here for more details.
URL:https://ansgarlodge.org/event/loi/
LOCATION:Uxbridge Masonic Centre\, 4a Hercies Road\, Hillingdon\, Uxbridge\, UB10 9NA\, United Kingdom
CATEGORIES:Lodge of Instruction
END:VEVENT
END:VCALENDAR